BEGIN:VCALENDAR
VERSION:2.0
PRODID:-//SJ Burnside Alt Ed - ECPv6.2.8.1//NONSGML v1.0//EN
CALSCALE:GREGORIAN
METHOD:PUBLISH
X-ORIGINAL-URL:https://alted.sd61.bc.ca
X-WR-CALDESC:Events for SJ Burnside Alt Ed
REFRESH-INTERVAL;VALUE=DURATION:PT1H
X-Robots-Tag:noindex
X-PUBLISHED-TTL:PT1H
BEGIN:VTIMEZONE
TZID:America/Vancouver
BEGIN:DAYLIGHT
TZOFFSETFROM:-0800
TZOFFSETTO:-0700
TZNAME:PDT
DTSTART:20240310T100000
END:DAYLIGHT
BEGIN:STANDARD
TZOFFSETFROM:-0700
TZOFFSETTO:-0800
TZNAME:PST
DTSTART:20241103T090000
END:STANDARD
END:VTIMEZONE
BEGIN:VEVENT
DTSTART;VALUE=DATE:20240316
DTEND;VALUE=DATE:20240403
DTSTAMP:20260423T122225
CREATED:20230921T202300Z
LAST-MODIFIED:20230921T202300Z
UID:1584-1710547200-1712102399@alted.sd61.bc.ca
SUMMARY:Spring Break
DESCRIPTION:
URL:https://alted.sd61.bc.ca/event/spring-break-2/
END:VEVENT
BEGIN:VEVENT
DTSTART;VALUE=DATE:20240403
DTEND;VALUE=DATE:20240404
DTSTAMP:20260423T122225
CREATED:20230921T202220Z
LAST-MODIFIED:20230921T202220Z
UID:1582-1712102400-1712188799@alted.sd61.bc.ca
SUMMARY:School re-opens after Spring Break
DESCRIPTION:
URL:https://alted.sd61.bc.ca/event/school-re-opens-after-spring-break/
END:VEVENT
BEGIN:VEVENT
DTSTART;VALUE=DATE:20240425
DTEND;VALUE=DATE:20240426
DTSTAMP:20260423T122225
CREATED:20230921T202418Z
LAST-MODIFIED:20230921T202418Z
UID:1586-1714003200-1714089599@alted.sd61.bc.ca
SUMMARY:Parent Teacher Meetings / Early Dismissal 1pm
DESCRIPTION:
URL:https://alted.sd61.bc.ca/event/parent-teacher-meetings-early-dismissal-1pm/
END:VEVENT
END:VCALENDAR