BEGIN:VCALENDAR
VERSION:2.0
PRODID:-//SJ Burnside Alt Ed - ECPv6.2.8.1//NONSGML v1.0//EN
CALSCALE:GREGORIAN
METHOD:PUBLISH
X-ORIGINAL-URL:https://alted.sd61.bc.ca
X-WR-CALDESC:Events for SJ Burnside Alt Ed
REFRESH-INTERVAL;VALUE=DURATION:PT1H
X-Robots-Tag:noindex
X-PUBLISHED-TTL:PT1H
BEGIN:VTIMEZONE
TZID:America/Vancouver
BEGIN:DAYLIGHT
TZOFFSETFROM:-0800
TZOFFSETTO:-0700
TZNAME:PDT
DTSTART:20220313T100000
END:DAYLIGHT
BEGIN:STANDARD
TZOFFSETFROM:-0700
TZOFFSETTO:-0800
TZNAME:PST
DTSTART:20221106T090000
END:STANDARD
BEGIN:DAYLIGHT
TZOFFSETFROM:-0800
TZOFFSETTO:-0700
TZNAME:PDT
DTSTART:20230312T100000
END:DAYLIGHT
BEGIN:STANDARD
TZOFFSETFROM:-0700
TZOFFSETTO:-0800
TZNAME:PST
DTSTART:20231105T090000
END:STANDARD
BEGIN:DAYLIGHT
TZOFFSETFROM:-0800
TZOFFSETTO:-0700
TZNAME:PDT
DTSTART:20240310T100000
END:DAYLIGHT
BEGIN:STANDARD
TZOFFSETFROM:-0700
TZOFFSETTO:-0800
TZNAME:PST
DTSTART:20241103T090000
END:STANDARD
END:VTIMEZONE
BEGIN:VEVENT
DTSTART;VALUE=DATE:20240517
DTEND;VALUE=DATE:20240518
DTSTAMP:20260425T114308
CREATED:20230921T202532Z
LAST-MODIFIED:20230921T202532Z
UID:1590-1715904000-1715990399@alted.sd61.bc.ca
SUMMARY:Professional Development Day - school not in session
DESCRIPTION:
URL:https://alted.sd61.bc.ca/event/professional-development-day-school-not-in-session-6/
CATEGORIES:Pro-D Day,school closure
END:VEVENT
BEGIN:VEVENT
DTSTART;TZID=America/Vancouver:20240216T080000
DTEND;TZID=America/Vancouver:20240216T170000
DTSTAMP:20260425T114308
CREATED:20230921T201809Z
LAST-MODIFIED:20230921T201809Z
UID:1574-1708070400-1708102800@alted.sd61.bc.ca
SUMMARY:Professional Development Day - school not in session
DESCRIPTION:
URL:https://alted.sd61.bc.ca/event/professional-development-day-school-not-in-session-5/
CATEGORIES:Pro-D Day,school closure
END:VEVENT
BEGIN:VEVENT
DTSTART;VALUE=DATE:20231120
DTEND;VALUE=DATE:20231121
DTSTAMP:20260425T114308
CREATED:20230831T213503Z
LAST-MODIFIED:20230831T213503Z
UID:1561-1700438400-1700524799@alted.sd61.bc.ca
SUMMARY:Professional Development Day - School not in session
DESCRIPTION:
URL:https://alted.sd61.bc.ca/event/professional-development-day-school-not-in-session-3/
CATEGORIES:Pro-D Day
END:VEVENT
BEGIN:VEVENT
DTSTART;VALUE=DATE:20231020
DTEND;VALUE=DATE:20231021
DTSTAMP:20260425T114308
CREATED:20230831T213031Z
LAST-MODIFIED:20230831T213031Z
UID:1553-1697760000-1697846399@alted.sd61.bc.ca
SUMMARY:Professional Development Day - School not in session
DESCRIPTION:
URL:https://alted.sd61.bc.ca/event/professional-development-day-school-not-in-session-2/
CATEGORIES:Pro-D Day
END:VEVENT
BEGIN:VEVENT
DTSTART;VALUE=DATE:20230922
DTEND;VALUE=DATE:20230923
DTSTAMP:20260425T114308
CREATED:20230831T211350Z
LAST-MODIFIED:20230831T211422Z
UID:1545-1695340800-1695427199@alted.sd61.bc.ca
SUMMARY:Professional Development Day - School not in session
DESCRIPTION:
URL:https://alted.sd61.bc.ca/event/professional-development-day-school-not-in-session/
CATEGORIES:Pro-D Day
END:VEVENT
BEGIN:VEVENT
DTSTART;VALUE=DATE:20230519
DTEND;VALUE=DATE:20230520
DTSTAMP:20260425T114308
CREATED:20220831T183258Z
LAST-MODIFIED:20220831T183258Z
UID:1490-1684454400-1684540799@alted.sd61.bc.ca
SUMMARY:Professional Development Day
DESCRIPTION:Classes not in session. School Closed
URL:https://alted.sd61.bc.ca/event/professional-development-day-6/
CATEGORIES:Pro-D Day
END:VEVENT
BEGIN:VEVENT
DTSTART;VALUE=DATE:20230217
DTEND;VALUE=DATE:20230218
DTSTAMP:20260425T114308
CREATED:20220831T175730Z
LAST-MODIFIED:20220831T175730Z
UID:1464-1676592000-1676678399@alted.sd61.bc.ca
SUMMARY:Professional Development Day
DESCRIPTION:Classes not in session. School Closed.
URL:https://alted.sd61.bc.ca/event/professional-development-day-5/
CATEGORIES:Pro-D Day
END:VEVENT
BEGIN:VEVENT
DTSTART;VALUE=DATE:20230127
DTEND;VALUE=DATE:20230128
DTSTAMP:20260425T114308
CREATED:20220831T175547Z
LAST-MODIFIED:20220831T175547Z
UID:1458-1674777600-1674863999@alted.sd61.bc.ca
SUMMARY:Professional Development Day
DESCRIPTION:Classes not in session. School Closed
URL:https://alted.sd61.bc.ca/event/professional-development-day-4/
CATEGORIES:Pro-D Day
END:VEVENT
BEGIN:VEVENT
DTSTART;VALUE=DATE:20221114
DTEND;VALUE=DATE:20221115
DTSTAMP:20260425T114308
CREATED:20220831T173607Z
LAST-MODIFIED:20220831T173607Z
UID:1434-1668384000-1668470399@alted.sd61.bc.ca
SUMMARY:Professional Development Day
DESCRIPTION:Classes not in session. School closed.
URL:https://alted.sd61.bc.ca/event/professional-development-day-3/
CATEGORIES:Pro-D Day
END:VEVENT
BEGIN:VEVENT
DTSTART;VALUE=DATE:20221021
DTEND;VALUE=DATE:20221022
DTSTAMP:20260425T114308
CREATED:20220831T170937Z
LAST-MODIFIED:20220831T170937Z
UID:1371-1666310400-1666396799@alted.sd61.bc.ca
SUMMARY:Professional Development Day
DESCRIPTION:Classes not in session. School closed
URL:https://alted.sd61.bc.ca/event/professional-development-day-2/
CATEGORIES:Pro-D Day
END:VEVENT
BEGIN:VEVENT
DTSTART;VALUE=DATE:20220923
DTEND;VALUE=DATE:20220924
DTSTAMP:20260425T114308
CREATED:20220830T204042Z
LAST-MODIFIED:20220830T204415Z
UID:1378-1663891200-1663977599@alted.sd61.bc.ca
SUMMARY:Professional Development Day
DESCRIPTION:Classes not in session. School Closed.
URL:https://alted.sd61.bc.ca/event/professional-development-day/
CATEGORIES:Pro-D Day
END:VEVENT
END:VCALENDAR